BEGIN:VCALENDAR
VERSION:2.0
PRODID:-//YourOrganization//EventDownload//DE
CALSCALE:GREGORIAN
METHOD:PUBLISH
BEGIN:VEVENT
UID:69e57f238cb47@leapup.bitshifters.cloud
DTSTAMP:20260420T031931Z
DTSTART:20220614T090000Z
DTEND:20220617T180000Z
SUMMARY:EPHJ-Fachmesse
DESCRIPTION:Eine weltweit einzigartige Hochpr&auml\;zisionsmesse\, die Uhren- und Schmuckindustrie\, Mikrotechnologien und Medizintechnik zusammenbringt.\nJetzt anmelden
END:VEVENT
END:VCALENDAR
