BEGIN:VCALENDAR
VERSION:2.0
PRODID:-//YourOrganization//EventDownload//DE
CALSCALE:GREGORIAN
METHOD:PUBLISH
BEGIN:VEVENT
UID:69e6f677a2df8@leapup.bitshifters.cloud
DTSTAMP:20260421T060055Z
DTSTART:20130905T000000Z
DTEND:20130905T000000Z
SUMMARY:EPPN Workshop: Plant Phenotyping
DESCRIPTION:&nbsp\;
END:VEVENT
END:VCALENDAR
