BEGIN:VCALENDAR
VERSION:2.0
PRODID:-//YourOrganization//EventDownload//DE
CALSCALE:GREGORIAN
METHOD:PUBLISH
BEGIN:VEVENT
UID:69e4c90263c71@leapup.bitshifters.cloud
DTSTAMP:20260419T142226Z
DTSTART:20240313T124500Z
DTEND:20240313T160000Z
SUMMARY:Erklärbarkeit und Transparenz bei KI-basierten Medizinprodukten: Anforderungen und Umsetzung in der Praxis (Online)
DESCRIPTION:Durch die Erkl&auml\;rbarkeit und Transparenz von&nbsp\;KI-Systemen in der Medizin&nbsp\;kann das Vertrauen von den beteiligten Stakeholdern wie &Auml\;rzten\, Patienten\, Beh&ouml\;rden und Benannten Stellen gewonnen werden.&nbsp\;&nbsp\;\nErkl&auml\;rbarkeit und Transparenz von&nbsp\;KI-Systemen in der Medizin&nbsp\;ist nicht nur entscheidend f&uuml\;r die Integration in die klinische Praxis\, sondern r&uuml\;ckt auch zunehmend in den Fokus von internationalen Regulatoren wie der EU\, der US-amerikanischen FDA\, Health Canada und der britischen MHRA. Hersteller von medizinischen KI-Systemen sollten sich deshalb fr&uuml\;hzeitig im&nbsp\;Produkt-Lebenszyklus&nbsp\;mit der Umsetzung der Anforderungen an die Erkl&auml\;rbarkeit und Transparenz befassen.&nbsp\;\nIn dieser Veranstaltung erl&auml\;utern Ihnen unsere Referierenden zum Thema:&nbsp\;\n\ndie entsprechenden regulatorischen Anforderungen in einschl&auml\;gigen Gesetzen\, Normen und Leitf&auml\;den\,&nbsp\;\ndie M&ouml\;glichkeiten einer technischen Realisierung sowie&nbsp\;&nbsp\;\ndie Erfahrungen aus der Sicht des medizinischen Anwenders.&nbsp\;\n\nWir freuen uns auf Ihre Teilnahme!&nbsp\;\nMEHR
LOCATION:Online\, 63069 Offenbach am Main
END:VEVENT
END:VCALENDAR
