BEGIN:VCALENDAR
VERSION:2.0
PRODID:-//YourOrganization//EventDownload//DE
CALSCALE:GREGORIAN
METHOD:PUBLISH
BEGIN:VEVENT
UID:69e6dfedc15fd@leapup.bitshifters.cloud
DTSTAMP:20260421T042445Z
DTSTART:20140507T000000Z
DTEND:20140508T000000Z
SUMMARY:EuroMedtech 2014
DESCRIPTION:Dealmaking for the Medtech Industry\nEuroMedtech&trade\; is Europe's leading medical technology partnering conference\, providing collaboration opportunities to medtech decision makers and investors. EuroMedtech caters to companies involved in all parts of the advanced medical technology industry\, from those serving mainline therapeutic categories such as orthopedics and cardiovascular\, through diagnostics\, imaging and eHealth to those involved in platform technologies such as biomaterials and regenerative medicine. Also attending are companies serving the industry\, such as manufacturers\, law firms\, CROs and distributors.\nFeaturing EBD Group's sophisticated\, web-based partnering system\, partneringONE&reg\;\, the event enables delegates to efficiently identify\, meet and do business with attending companies\, from large international medtech companies and just launched start-ups\, to venture capitalists and private equity firms.
END:VEVENT
END:VCALENDAR
