BEGIN:VCALENDAR
VERSION:2.0
PRODID:-//YourOrganization//EventDownload//DE
CALSCALE:GREGORIAN
METHOD:PUBLISH
BEGIN:VEVENT
UID:69e4c8bd057d1@leapup.bitshifters.cloud
DTSTAMP:20260419T142117Z
DTSTART:20250924T084500Z
DTEND:20250924T170000Z
SUMMARY:Exo Session 2025 - Exoskelette im Fokus
DESCRIPTION:Entdecken Sie die Zukunft – Seien Sie Teil der Exo Session 2025!\nTauchen Sie ein in die Welt der Exoskelette und erleben Sie\, wie innovative Technologien die Medizin und Produktion revolutionieren.Auf der Exo Session der imk Health GmbH erwartet Sie ein spannender interdisziplinärer Austausch zu den Chancen und Herausforderungen dieser faszinierenden Lösungen.\n\n24. September 2025 \nKraftverkehr Chemnitz\n\nDie Exo Session ist Teil der IIC 2025 – der Konferenz für digitale Produktionsplanung und smarte Technologien. Nutzen Sie die Gelegenheit Synergien zwischen den Themenfeldern zu entdecken!\nSichern Sie sich Ihre Teilnahme und gestalten Sie gemeinsam die Zukunft – wir freuen uns auf Sie!
LOCATION:KRAFTVERKEHR – Event- und Kongresskultur in Chemnitz\, Fraunhoferstraße 60\, 09126  Chemnitz
END:VEVENT
END:VCALENDAR
