BEGIN:VCALENDAR
VERSION:2.0
PRODID:-//YourOrganization//EventDownload//DE
CALSCALE:GREGORIAN
METHOD:PUBLISH
BEGIN:VEVENT
UID:69e6751314f75@leapup.bitshifters.cloud
DTSTAMP:20260420T204851Z
DTSTART:20160513T190000Z
DTEND:20160513T190000Z
SUMMARY:Expertenabend zum Thema „Arbeitsschutz und Corporate Social Responsibility – weltweite Herausforderung für Unternehmen und Politik“
DESCRIPTION:Wie lassen sich Wirtschaft\, Menschenrechte und gute Arbeit weltweit vereinbaren? Antworten auf diese Frage gibt der stellvertretende Hauptgesch&auml\;ftsf&uuml\;hrer der Deutschen Gesetzlichen Unfallversicherung (DGUV) Dr. Walter Eichendorf. Los geht es ab 19 Uhr im H&ouml\;rsaal der DIU.\n&nbsp\;
LOCATION:DIU DRESDEN INTERNATIONAL UNIVERSITY\, Freiberger Straße\, 01067 Dresden
END:VEVENT
END:VCALENDAR
