BEGIN:VCALENDAR
VERSION:2.0
PRODID:-//YourOrganization//EventDownload//DE
CALSCALE:GREGORIAN
METHOD:PUBLISH
BEGIN:VEVENT
UID:69e5cd5bc305f@leapup.bitshifters.cloud
DTSTAMP:20260420T085315Z
DTSTART:20201116T090000Z
DTEND:20201117T170000Z
SUMMARY:Explorative Datenanalyse
DESCRIPTION:Die Auswertung von Daten ist der Schl&uuml\;ssel auf dem Weg zu fachgerechten und sachlichen Entscheidungen. Daten stehen heutzutage oft reichlich zur Verf&uuml\;gung\, jedoch das Wissen um den Umgang mit Daten fehlt h&auml\;ufig. Oft werden&nbsp\; die Begriffe &bdquo\;Datenanalyse&ldquo\; oder &bdquo\;Statistik&ldquo\; als &bdquo\;abschreckend&ldquo\; empfunden. Dabei birgt gerade ein systematisches Vorgehen ungeahnte Potenziale f&uuml\;r Wissensgewinn\, Effizienzsteigerung und Arbeitserleichterung.\nDie wesentlichen\, elementaren Fragen\, die sich bei jeder Datenanalyse stellen sind:\nWas steckt in den Daten?Kann ich Zusammenh&auml\;nge zwischen verschiedenen Beobachtungen erkennen?Kann ich Zusammenh&auml\;nge nachweisen?Zur Beantwortung solcher oder &auml\;hnlicher Fragen spielen Grafiken\, Zusammenfassungen und Regressionen eine wichtige Rolle. In einem intuitiv verst&auml\;ndlichen Vorgehen werden in diesem Kurs alle diese Elemente kombiniert\, um von einem Datenbestand zu belastbaren Aussagen zu gelangen.\nZur Veranschaulichung und &Uuml\;bung wird die grafisch orientierte Software JMP eingesetzt\, da sie sich durch besonders einfache Benutzerf&uuml\;hrung auszeichnet. Datens&auml\;tze f&uuml\;r die &Uuml\;bungen werden zur Verf&uuml\;gung gestellt. Es ist ausdr&uuml\;cklich erw&uuml\;nscht\, dass die Teilnehmer eigene Daten und Aufgabenstellungen mitbringen\, auch wenn nicht garantiert werden kann\, dass jeder Anwendungsfall besprochen werden kann.\nMehr Informationen und Anmeldung
END:VEVENT
END:VCALENDAR
