BEGIN:VCALENDAR
VERSION:2.0
PRODID:-//YourOrganization//EventDownload//DE
CALSCALE:GREGORIAN
METHOD:PUBLISH
BEGIN:VEVENT
UID:69e4e1fc9b0af@leapup.bitshifters.cloud
DTSTAMP:20260419T160900Z
DTSTART:20240314T090000Z
DTEND:20240314T170000Z
SUMMARY:Fachsymposium „Gesundheit und Versorgung"
DESCRIPTION:Die Versorgungslandschaft in Deutschland ist im Wandel. Herausforderungen wie u.a. die regionale Verteilung der Versorgungstandorte\, die steigenden Finanzierungsleistungen sowie der Mangel an Fachpersonal beeinflussen die Weiterentwicklung der Gesundheitsversorgung in Deutschland. Des Weiteren spielt das Thema Digitalisierung eine wichtige Rolle. Es besteht die Notwendigkeit\, die IT-Infrastruktur und die Kompetenzen der Mitarbeiterinnen und Mitarbeiter in der Nutzung digitaler Anwendungen auszubauen.\nDiese und viele weitere Themen wollen wir zusammen mit Ihnen zu unserem Fachsymposium Gesundheit und Versorgung einmal n&auml\;her betrachten\, um gemeinsam mit allen Akteuren der Versorgungslandschaft in Deutschland die Herausforderungen und Chancen einer zukunftssicheren Versorgung zu diskutieren.\nInhalte\n\nFinanzierung und gesetzliche Ver&auml\;nderungen in der Gesundheitsversorgung\nAusblick auf die Zukunft der sektoren&uuml\;bergreifenden Versorgung in Deutschland\nDigitalisierung in der Versorgung\nVersorgungsdaten in Deutschland nutzen &ndash\; Grenzen und M&ouml\;glichkeiten\n\nWeitere Informationen und zur Anmeldung
LOCATION:Salles de Pologne Events & Konferenzen\, Konferenzetage — Hainstraße 16\, 04109 Leipzig
END:VEVENT
END:VCALENDAR
