BEGIN:VCALENDAR
VERSION:2.0
PRODID:-//YourOrganization//EventDownload//DE
CALSCALE:GREGORIAN
METHOD:PUBLISH
BEGIN:VEVENT
UID:69e5549a1651f@leapup.bitshifters.cloud
DTSTAMP:20260420T001802Z
DTSTART:20230503T093000Z
DTEND:20230503T163000Z
SUMMARY:Fachsymposium "Nachhaltigkeit in der Gesundheitswirtschaft“
DESCRIPTION:Warum ist Nachhaltigkeit auch f&uuml\;r das Gesundheitswesen relevanter denn je? Sp&auml\;testens seit der Corona-Pandemie ist deutlich geworden\, wie eng der Mensch mit der Natur und seiner Umwelt verbunden ist. Und die Auswirkungen des Klimawandels auf die Gesundheit des Menschen werden sich in den kommenden Jahren weiter verst&auml\;rken. Das umfasst nicht nur direkte Gefahren wie etwa Hitzewellen oder Flutkatastrophen\, sondern auch damit verbundene\, indirekte gesundheitliche Risiken\, wie Infektions- und Atemwegskrankheiten\, Hautkrebs oder psychische Erkrankungen. Wie alle Branchen und Wirtschaftszweige muss sich deshalb auch das Gesundheitswesen mit der Frage besch&auml\;ftigen\, wie jeder einzelne nachhaltiger arbeiten\, leben und agieren kann. Denn die Gesundheit des Einzelnen und des Planeten sind untrennbar miteinander verbunden. Die Healthcare-Branche hat hierauf einen nicht unwesentlichen Einfluss.\nInhalte:\n\nKlima und Gesundheit\nNachhaltigkeitsstrategien in der GKV\nWelche Anforderungen sind seitens der Politik an Nachhaltigkeit in Krankenkassen gestellt?\nEntwicklung eines gemeinsamen Fahrplans zum Umgang mit den Herausforderungen\n\nZielgruppe:\nFach- und F&uuml\;hrungskr&auml\;fte aus gesetzlichen und privaten Krankenversicherungs- sowie Pharma- und Medizintechnikunternehmen\, IT- und Unternehmensberatungen mit dem Schwerpunkt &raquo\;Gesundheitswirtschaft&laquo\; als auch Professor/-innen und Lehrst&uuml\;hle des deutschsprachigen Raumes und alle interessierten Akteure\, Kunden und Partner der Gesundheitsforen.\nJetzt anmelden!\n
LOCATION:Salles de Pologne Events & Konferenzen | Konferenzetage\, Hainstraße 16\, 04109 Leipzig
END:VEVENT
END:VCALENDAR
