BEGIN:VCALENDAR
VERSION:2.0
PRODID:-//YourOrganization//EventDownload//DE
CALSCALE:GREGORIAN
METHOD:PUBLISH
BEGIN:VEVENT
UID:69e5d2bd0318b@leapup.bitshifters.cloud
DTSTAMP:20260420T091613Z
DTSTART:20210315T160000Z
DTEND:20210315T170000Z
SUMMARY:Fax\, Apps\, Telemedizin\, Instagram – wie digital muss der Arztberuf sein?
DESCRIPTION:&nbsp\;Die Digitalisierung des Gesundheitswesens stellt neue Anforderungen an die Ausbildung von &Auml\;rztinnen und &Auml\;rzten: Sie m&uuml\;ssten so vertraut mit neuen Technologien sein\, dass sie diese sp&auml\;ter im Praxisalltag problemlos einsetzen k&ouml\;nnen. Noch beobachten angehende Mediziner*innen die Digitalisierung des Gesundheitswesens allerdings aus der Ferne und im Praxisalltag bleibt der Aufwand und Ertrag digitaler Methoden weiterhin umstritten.\nW&auml\;hrenddessen haben Patientinnen und Patienten nicht nur Zugang zu digitalen Angeboten wie etwa der Telemedizin. Sie k&ouml\;nnen ihre Haus&auml\;rzt*innen auch online bewerten oder auf ihren Rat verzichten und sich &uuml\;ber eine App oder gar Soziale Medien informieren. Oftmals handelt es sich dabei allerdings um nicht zertifizierte Produkte. Oder sogar um Influencer\, die informieren\, aber keine medizinische Ausbildung haben.\nIn diesem Webtalk diskutiert Britta Rybicki\, Handelsblatt Digital Health Reporterin\, mit &Auml\;rztinnen und &Auml\;rzten aus unterschiedlichen Stationen ihres Werdegangs &uuml\;ber folgende Fragen:\n&middot\;&nbsp\;&nbsp\;&nbsp\; Wie ver&auml\;ndert die Digitalisierung das Arzt-Patienten-Verh&auml\;ltnis\n&middot\;&nbsp\;&nbsp\;&nbsp\; Welche digitalen Kompetenzen m&uuml\;ssen &Auml\;rztinnen und &Auml\;rzte ausbilden?\n&middot\;&nbsp\;&nbsp\;&nbsp\; Bereitet das Medizinstudium ausreichend auf die digitalen Herausforderungen des Gesundheitswesens vor?\nZur Anmeldung
LOCATION:Euroforum Deutschland GmbH\, online
END:VEVENT
END:VCALENDAR
