BEGIN:VCALENDAR
VERSION:2.0
PRODID:-//YourOrganization//EventDownload//DE
CALSCALE:GREGORIAN
METHOD:PUBLISH
BEGIN:VEVENT
UID:69e53aec94995@leapup.bitshifters.cloud
DTSTAMP:20260419T222828Z
DTSTART:20231106T093000Z
DTEND:20231106T160000Z
SUMMARY:Fokustag "Primärprävention - von der Theorie in die Praxis“
DESCRIPTION:Welche Kriterien sind entscheidend f&uuml\;r eine Krankenkasse\, um sich f&uuml\;r die Satzungsimpfleistungen zu entscheiden? Was bedeutet die freiwillige Erstattung f&uuml\;r eine Krankenkasse? Wie h&auml\;ufig werden Satzungsleistungen in Anspruch genommen? Ziel des Fokustages ist es\, Erkenntnisse aus verschiedenen Perspektiven zu erhalten und das Thema im offenen Austausch mit allen Beteiligten zu besprechen.\nJetzt anmelden!
LOCATION:Salles de Pologne Events & Konferenzen\, Hainstraße 16\, 04109 Leipzig
END:VEVENT
END:VCALENDAR
