BEGIN:VCALENDAR
VERSION:2.0
PRODID:-//YourOrganization//EventDownload//DE
CALSCALE:GREGORIAN
METHOD:PUBLISH
BEGIN:VEVENT
UID:69e8e1a447c5f@leapup.bitshifters.cloud
DTSTAMP:20260422T165636Z
DTSTART:20191010T090000Z
DTEND:20191010T160000Z
SUMMARY:Fortbildung Laserschutzbeauftragte für technische Anwendungen nach OStrV und TROS
DESCRIPTION:In diesem Kurs wird das Wissen der Teilnehmer über die biologischen Wirkungen von Laserstrahlung sowie die beim Betrieb von Lasereinrichtungen bestehenden Gefährdungspotenziale aufgefrischt. Weiterhin wird über die sich neu nach OStrV und TROS Laserstrahlung ergebenden Aufgaben und Pflichten des Laserschutzbeauftragten und des Betreibers von Lasereinrichtungen informiert.\nDie Veranstaltung ist geeignet als Auffrischungs- bzw. Weiterbildungskurs sachkundiger Laserschutzbeauftragter für technische Anwendungen. Die regelmäßige Auffrischung der Sachkunde Laserschutzbeauftragter (mind. alle 5 Jahre) wird empfohlen.\nINHALT:\n\nphysikalische Größen und Eigenschaften von Laserstrahlung\nbiologische Wirkung von Laserstrahlung\ndirekte und indirekte Gefährdungen beim Umgang mit Laserstrahlung\nSchutzmaßnahmen zum sicheren Betrieb von Laseranlagen\nneue rechtliche Grundlagen und Regeln der Technik\nKlassifizierung von Laseranlagen nach internationaler Norm IEC 60825-1:2014\nAufgaben und Verantwortung des Laserschutzbeauftragten nach OStrV und TROS\nErmittlung der Exposition und Gefährdungsbeurteilung\nLaserschutz- und Justierbrillen\, Berechnungsbeispiele nach BGI 5092\nUnterweisung der Beschäftigten\nDiskussion\n\nPREIS:\nbiosaxony-Mitglieder erhalten einen Rabatt von 4%.\nBIOSAXONY Mitglieder: 432 € (netto) NICHT-Mitglieder: 450 € (netto)\nBitte nutzen Sie für Ihre Anmeldung unsere hier verlinkte online Registrierung.
LOCATION:SLG Akademie GmbH\, Burgstädter Straße 20\, 09232 Hartmannsdorf
END:VEVENT
END:VCALENDAR
