BEGIN:VCALENDAR
VERSION:2.0
PRODID:-//YourOrganization//EventDownload//DE
CALSCALE:GREGORIAN
METHOD:PUBLISH
BEGIN:VEVENT
UID:69e662418b9c4@leapup.bitshifters.cloud
DTSTAMP:20260420T192833Z
DTSTART:20161124T091500Z
DTEND:20161124T171500Z
SUMMARY:Forum Mikrospritzgießen: Von der Idee zum realen Formteil
DESCRIPTION:Eine Fachtagung mit Industriepartnern entlang der Wertschöpfungskette vom Formteildesign über die geeignete Werkzeug- u. Maschinentechnik bis zur Fertigung in der erforderlichen Produktionsumgebung.\nUnter dem Motto „Von der Idee zum realen Formteil“ ermöglicht die Fachtagung einen umfassenden Überblick der Möglichkeiten zur Mikroformteilfertigung aus Kunststoff. Aspekte wie Mikrospritzgießen für die Medizintechnik\, Reinraumtechnik und UPM-Bearbeitung für die Werkzeugtechnik werden ebenso beleuchtet wie verschiedene Sonderverfahren.\n&gt\;&gt\;Tagungsflyer
LOCATION:Kunststoff-Zentrum in Leipzig gGmbH\, Erich-Zeigner-Allee 44\, 04229 Leipzig
END:VEVENT
END:VCALENDAR
