BEGIN:VCALENDAR
VERSION:2.0
PRODID:-//YourOrganization//EventDownload//DE
CALSCALE:GREGORIAN
METHOD:PUBLISH
BEGIN:VEVENT
UID:69e501f5df789@leapup.bitshifters.cloud
DTSTAMP:20260419T182525Z
DTSTART:20250916T090000Z
DTEND:20250917T150000Z
SUMMARY:Fraunhofer IWU Open House 2025 | B2B-Produktionsforum
DESCRIPTION:Seien Sie dabei\, wenn am 16. und 17. September 2025 das Fraunhofer IWU in Chemnitz zum Zentrum für Innovation und Austausch wird! Unser B2B-Produktionsforum richtet sich an Forschende und Fachleute aus der Industrie und bietet Ihnen eine hervorragende Gelegenheit\, neue Ideen zu entdecken und zukunftsweisende Technologien zu erkunden.\nFreuen Sie sich auf ein abwechslungsreiches Programm mit spannenden Versuchsfeldern\, inspirierenden Fachvorträgen und interaktiven Workshops! Die Themen umfassen:\n\nFeinbearbeitung und Schleifen: Entdecken Sie die neuesten Entwicklungstrends und Verfahren.\nProfilbearbeitung: Lernen Sie innovative Techniken für die Blech- und Massivumformung kennen.\nDigitalisierung in der Produktion: Erleben Sie\, wie Prozesse\, Clouddienste und Industriedienstleistungen nahtlos zusammenarbeiten.\nWasserstoffsystem-Produktion: Erfahren Sie mehr über die neuesten Fertigungstechnologien und ihre Anwendungen.\nPräzisionswerkzeugbau: Tauchen Sie ein in abtragende Verfahren und die Gestaltung von Funktionsoberflächen.\nProzessüberwachung: Sehen Sie\, wie die Digitalisierung in spanenden Werkzeugmaschinen Einzug hält.\nCNC Robotik: Entdecken Sie\, wie Roboter einfach in den Fertigungsprozess integriert werden können.\nAutomatisierte Montage: Erfahren Sie\, wie Montage und Demontage effizient gestaltet werden können.\n\nDiese Unternehmen gestalten mit uns für Sie das B2B-Produktionsforum: ACSYS | Batix Software | GROB-WERKE | KAPP GmbH &amp\; Co. KG | Krebs &amp\; Riedel Schleifscheibenfabrik | METROM | NSH TECHNOLOGY GmbH Niederlassung Glauchau | N+P Informationssysteme | PEMTec SNC | Parker | Profiroll Technologies | Qcision | SIEMENS | SITEC Industrietechnologie\nWir freuen uns auf inspirierende Begegnungen und einen spannenden Austausch mit Ihnen!
LOCATION:Fraunhofer IWU\, Reichenhainer Str. 88\, 091296 Chemnitz
END:VEVENT
END:VCALENDAR
