BEGIN:VCALENDAR
VERSION:2.0
PRODID:-//YourOrganization//EventDownload//DE
CALSCALE:GREGORIAN
METHOD:PUBLISH
BEGIN:VEVENT
UID:69e8ecc992fb0@leapup.bitshifters.cloud
DTSTAMP:20260422T174409Z
DTSTART:20171108T090000Z
DTEND:20171109T180000Z
SUMMARY:Fraunhofer Life Science Symposium 2017: Latest Developments in the Diagnosis of Infectious Diseases
DESCRIPTION:The annual symposium wants to view the topic of »Latest Developments in the Diagnosis of Infectious Diseases«.\nThe main topics are:\n\nPoint-of-care diagnostic\nNucleic acid based diagnostics\nSerology bases diagnostics\nSepsis diagnostics\nDiagnosis of emerging infections\nBiomarker development for diagnostic use\nVeterinary diagnostics\nNext generation sequencing in diagnostics\n\nWe want to invite you to present your scientific work and also to meet renowned keynote speakers as well as other scientists from the exciting field of infectious diseases. This symposium offers you the opportunity to present\, hear about and discuss new scientific developments\, encounter new people\, and meet old friends and colleagues.\nOur keynote speakers are:\n\nLuisa Barzon\, University of Padova\, Italy\nRalf Ehricht\, Alere Technologies GmbH\, Germany\nEugen Ermantraut\, Blink dx GmbH\, Germany\nMarion Koopman\, Erasmus MC\, The Netherlands\nJürgen Popp\, Leibniz Institute of Photonic Technology\, Germany\nKonrad Reinhart\, Jena University Hospital\, Germany\nJonas Schmidt-Chanasit\, Bernhard Nocht Institute for Tropical Medicine\, Germany\nHeike Sichtig\, U.S. Food and Drug Administration\, USA\n\nWith the industrial exhibition you will surely find a good platform to communicate your expectations and needs for your research with business partners.\nWe are looking forward to meeting you in the beautiful city of Leipzig!\nThe symposium is organised by the Fraunhofer Institute for Cell Therapy and Immunology IZI.\n
LOCATION:Fraunhofer Institute for Cell Therapy and Immunology\, Perlickstraße 1\, 04103 Leipzig
END:VEVENT
END:VCALENDAR
