BEGIN:VCALENDAR
VERSION:2.0
PRODID:-//YourOrganization//EventDownload//DE
CALSCALE:GREGORIAN
METHOD:PUBLISH
BEGIN:VEVENT
UID:69e590784259b@leapup.bitshifters.cloud
DTSTAMP:20260420T043328Z
DTSTART:20220331T180000Z
DTEND:20220331T210000Z
SUMMARY:FUN 2022 – Digitaler Frühling
DESCRIPTION:Intap network und Digital Mindset&nbsp\;laden gemeinsam zum FUN-Event #digitalerFr&uuml\;hling ein.&nbsp\; Am 31. M&auml\;rz 2022 ab 18 Uhr bekommen Unternehmen die M&ouml\;glichkeit\, sich analog in verschiedenen Sessions &uuml\;ber digitale Fails &amp\; Learnings in 2 Jahren Pandemie auszutauschen. Die Sessions werden von Expertinnen und Experten moderiert und geleitet. Das Event findet im Impact Hub Dresden statt. Die Teilnahmekosten basieren auf einer Spende f&uuml\;r gemeinn&uuml\;tzige Organisationen.\nWeitere Informationen und zur Anmeldung\n
LOCATION:Impact Hub \, Trompeterstraße 5\, 01069 Dresden
END:VEVENT
END:VCALENDAR
