BEGIN:VCALENDAR
VERSION:2.0
PRODID:-//YourOrganization//EventDownload//DE
CALSCALE:GREGORIAN
METHOD:PUBLISH
BEGIN:VEVENT
UID:69e5d7a4a3838@leapup.bitshifters.cloud
DTSTAMP:20260420T093708Z
DTSTART:20200709T100000Z
DTEND:20200709T120000Z
SUMMARY:futureSAX-Innovationbörse Online
DESCRIPTION:Gute Ideen verdienen starke Partner. Aus diesem Grund bietet futureSAX Wissenschaftlern und Unternehmern die M&ouml\;glichkeit\, im Rahmen unserer Innovationsb&ouml\;rse in Kontakt zu treten und gemeinsame Innovationsprojekte und Kooperationsprojekte zu entwickeln.&nbsp\; Mit der Innovationsb&ouml\;rse finden Nachfrager und Anbieter innovativer L&ouml\;sungen schnell eine gemeinsame Basis f&uuml\;r die Kooperationsanbahnung.\nSie sind Wissenschaftler m&ouml\;chten mit einem Praxispartner ein Produkt\, einen Prozess oder eine Dienstleitung zur Marktreife entwickeln?\nIhr Unternehmen sucht Unterst&uuml\;tzung bei der Weiterentwicklung eigener Produkte\, Prozesse und Dienstleistungen?\nDann nehmen Sie an der futureSAX-Innovationsb&ouml\;rse Online teil und senden Sie uns Ihren OnePager zu.\nTeilnahme f&uuml\;r Pitches\nLaden Sie sich den Onepager f&uuml\;r Wirtschaft oder Wissenschaft herunter und senden Sie das ausgef&uuml\;llte Dokument bis zum 5. Juni 2020 an: innovationsboerse@futuresax.de\nAlle Einsendungen werden im Anschluss informiert und k&ouml\;nnen ihr Kooperationsgesuch in einem 3-min&uuml\;tigen Pitch pr&auml\;sentieren.\nF&uuml\;r weitere Fragen steht Ihnen futureSAX-Projektmanager f&uuml\;r Forschung &amp\; Transfer\, Ronny Kittler\, unter ronny.kittler@futuresax.de oder unter 0351 79 99 79 73 zur Verf&uuml\;gung.
END:VEVENT
END:VCALENDAR
