BEGIN:VCALENDAR
VERSION:2.0
PRODID:-//YourOrganization//EventDownload//DE
CALSCALE:GREGORIAN
METHOD:PUBLISH
BEGIN:VEVENT
UID:69e4fd6ebaf9b@leapup.bitshifters.cloud
DTSTAMP:20260419T180606Z
DTSTART:20250904T100000Z
DTEND:20250904T200000Z
SUMMARY:futureSAX-Innovationsforum II - Life Sciences & Healthcare
DESCRIPTION:Seit 2012 ist das futureSAX-Innovationsforum mit rund 150 Teilnehmenden das zentrale Impuls-Event für den sächsischen Mittelstand. Das Format bringt Wissenschaftler und Unternehmen ins Gespräch\, um den Transfer innovativer Entwicklungen in die Praxis zu erleichtern und Unternehmen den Weg zu einem breiter aufgestellten Geschäftsfeld zu ebnen.\nDas Forum soll einen Ausblick auf die Gesundheitsversorgung von morgen geben und die Markteinführung und Systemintegration von Innovationen vorantreiben. \n\n04. September 2025 \nBIO CITY Leipzig\njetzt Aussteller werden\n\nWenn Sie sich zudem mit einem Stand im Aussteller- und Networking-Bereich präsentieren möchten\, füllen Sie bitte auch das folgende Formular aus: Ausstellungsabfrage\nSichern Sie sich Ihre Teilnahme und gestalten Sie gemeinsam die Zukunft – wir freuen uns auf Sie!
LOCATION:BIO CITY LEIPZIG\, Deutscher Platz 5\, 04103 Leipzig 
END:VEVENT
END:VCALENDAR
