BEGIN:VCALENDAR
VERSION:2.0
PRODID:-//YourOrganization//EventDownload//DE
CALSCALE:GREGORIAN
METHOD:PUBLISH
BEGIN:VEVENT
UID:69e5dc16b9243@leapup.bitshifters.cloud
DTSTAMP:20260420T095606Z
DTSTART:20200512T090000Z
DTEND:20200512T160000Z
SUMMARY:futureSAX-Matching - Occident Group AG 
DESCRIPTION:Der fr&uuml\;hzeitige Beginn der pers&ouml\;nlichen &bdquo\;Investors Journey&ldquo\; bietet jungen Unternehmen die M&ouml\;glichkeit Kontakte zu Kapitalgebern aufzubauen\, Feedback einzuholen und einen systematischen Prozess zur Vorbereitung und Durchf&uuml\;hrung der Finanzierungsrunde zu starten. Das futureSAX-Matching unterst&uuml\;tzt dabei innovative Unternehmen und Gr&uuml\;ndungsprojekte auf ihrem Wege durch die Vernetzung mit relevanten Kapitalgebern.\nIhr Unternehmen ist aktuell auf der Suche nach einer Fr&uuml\;hphasenfinanzierung in den Bereichen&nbsp\;Lifesciences\, Digital und Hightech&nbsp\;oder die n&auml\;chste Finanzierungsrunde steht in mittelfristiger Zukunft an?&nbsp\;&nbsp\;\nMit dem n&auml\;chsten futureSAX-Matching&nbsp\;mit einem Family Office aus der Schweiz&nbsp\;am&nbsp\;12. Mai 2020&nbsp\;in Dresden&nbsp\;bieten wir Ihnen eine ideale M&ouml\;glichkeit\, um neue Investorenkontakte zu kn&uuml\;pfen und rufen Gr&uuml\;nder und Unternehmer im futureSAX-Netzwerk zur Bewerbung auf.&nbsp\;Die Unternehmen werden im Vorfeld gemeinsam mit dem Investor ausgew&auml\;hlt.&nbsp\;&nbsp\;\nWie k&ouml\;nnen Sie sich bewerben?&nbsp\;&nbsp\;\nBewerben Sie sich bis zum&nbsp\;15. April&nbsp\;2020&nbsp\;um einen der begehrten&nbsp\;Pitchpl&auml\;tze\, in dem Sie die folgenden Bewerbungsunterlagen an uns unter&nbsp\;kapital@futureSAX.de&nbsp\;senden!&nbsp\;\nVollst&auml\;ndige Bewerbungsunterlagen:&nbsp\;\n\nAusgef&uuml\;llter futureSAX-One-Pager (Vorlage&nbsp\;hier&nbsp\;herunterladen)&nbsp\;\nKurzbeschreibung (3-4 S&auml\;tze) sowie Slogan des Unternehmens (max. 10 Worte) auf Deutsch f&uuml\;r das Programmheft&nbsp\;\nPitchdeck (Versandversion)&nbsp\;\n\n\nStichpunkte zum aktuellen Stand\n\nUmsetzung der Technologie / des Produkts\nGesch&auml\;ftsmodell\nerreichte&nbsp\;Meilensteine am Markt\nFinanzierungsvolumen aktuelle Runde + bereits zugesagte Finanzierungen&nbsp\;\n\n\n\nWas erwartet Sie? Eindr&uuml\;cke der letzten&nbsp\;futureSAX-Matching Software-as-a-Service mit&nbsp\;seed&nbsp\;+&nbsp\;speed&nbsp\;Ventures k&ouml\;nnen Sie&nbsp\;auf unserer Homepage nachlesen.\nWeiterf&uuml\;hrende Informationen: \n Onepager f&uuml\;r kapitalsuchende Unternehmen
END:VEVENT
END:VCALENDAR
