BEGIN:VCALENDAR
VERSION:2.0
PRODID:-//YourOrganization//EventDownload//DE
CALSCALE:GREGORIAN
METHOD:PUBLISH
BEGIN:VEVENT
UID:69e53de3e1d0d@leapup.bitshifters.cloud
DTSTAMP:20260419T224107Z
DTSTART:20231129T093000Z
DTEND:20231129T143000Z
SUMMARY:GMP-Grundlagenschulung
DESCRIPTION:\nThema: Einf&uuml\;hrung in die Grundlagen der Guten Herstellungspraxis\nReferent:&nbsp\;Dr. Hans-Georg Eckert\, Senior GMP Consultant der Valicare GmbH\nBegr&uuml\;&szlig\;ung\n\nTeil 1: GMP-Einf&uuml\;hrung\nTeil 2: GMP-Regelwerke &amp\; Anforderungen\nTeil 3: Qualit&auml\;tssicherungs-Werkzeuge\nTeil 4: Qualifizierung &amp\; Validierung\nTeil 5: Leistungsportfolio der Valicare\nTeil 5: Fragen &amp\; Diskussion\nTeil 6: 4 max. 20-min&uuml\;tige Beratungsslots (ab 14:00)\n\nFreuen Sie sich auf eine informative &amp\; interaktive Schulung.\nTEILNEHMERGEB&Uuml\;HR:\nBIOSAXONY Mitglieder: 150\,00 &euro\; (netto)\nNICHT-Mitglieder: 200\,00 &euro\; (netto)\nIn der Teilnahmegeb&uuml\;hr sind Getr&auml\;nke und ein Mittagessen enthalten.\nNach Abschluss der Schulung erhalten die Teilnehmer ein Zertifikat.\nTEILNAHMEBEDINGUNGEN:\nDie Teilnehmerzahl f&uuml\;r die Veranstaltung ist auf max. 12 Teilnehmer&nbsp\;begrenzt. Anmeldungen werden in der Reihenfolge ihres Eingangs ber&uuml\;cksichtigt.\nAnmeldefrist: 10.11.2023\nEine Stornierung der Anmeldung bleibt bis zum jeweiligen Anmeldeschluss kostenfrei. Bei einer Stornierung nach dem Anmeldeschluss werden 50% des Kurspreises f&auml\;llig.&nbsp\;Bei unentschuldigtem Nichterscheinen ist der komplette Kurspreis f&auml\;llig.\nBitte beachten Sie die&nbsp\;Veranstaltungs-AGB des biosaxony e. V.\nJETZT ANMELDEN
LOCATION:BioInnovationsZentrum Dresden\, Tatzberg 47 \, 01307 Dresden
END:VEVENT
END:VCALENDAR
