BEGIN:VCALENDAR
VERSION:2.0
PRODID:-//YourOrganization//EventDownload//DE
CALSCALE:GREGORIAN
METHOD:PUBLISH
BEGIN:VEVENT
UID:69e6af5fc1d4b@leapup.bitshifters.cloud
DTSTAMP:20260421T005735Z
DTSTART:20150224T180000Z
DTEND:20150224T200000Z
SUMMARY:Gründungsfaktor Verantwortung - Unternehmerische Verantwortung als zusätzliche Last oder echte Chance?
DESCRIPTION:V FAKTOR &ndash\; Verantwortungsvoll Wirtschaften in Mitteldeutschland l&auml\;dt Sie herzlich zur n&auml\;chsten Erfahrungspartnerveranstaltung ein\, die sich dieses Mal der Rolle von unternehmerischer Verantwortung bei Unternehmensgr&uuml\;ndungen widmet: \nGr&uuml\;ndungsfaktor Verantwortung - Unternehmerische Verantwortung als zus&auml\;tzliche Last oder echte Chance?\nWer als Unternehmer auf Nachhaltigkeit setzt\, &uuml\;bernimmt Verantwortung in der Gesellschaft und f&ouml\;rdert zudem den eigenen Unternehmenserfolg. Daf&uuml\;r ist es nie zu sp&auml\;t.\nWer aber bereits als Gr&uuml\;nder unternehmerische Verantwortung im Kerngesch&auml\;ft verankert oder in die Unternehmensstrategie integriert\, sichert sich den entscheidenden Wettbewerbsvorteil von Beginn an.\nGelten diese Aussagen grunds&auml\;tzlich? Wie nachhaltig und (sozial) verantwortungsbewusst muss eine Gr&uuml\;ndung sein\, damit das entstehende Unternehmen auch erfolgreich ist? Wie sollte eine Verantwortungsstrategie f&uuml\;r etablierte Unternehmen ausgerichtet sein? Auf welche Erfahrungen k&ouml\;nnen Gr&uuml\;nder und etablierte Unternehmer ihren Lernprozess bauen?\nV FAKTOR zu Gast im Social Impact Lab Leipzig diskutiert mit:\n\nMartin J&auml\;hnert &ndash\; ernst aber l&auml\;ssig UG\nStefan Klenk &ndash\; SMILE Selbst Management Initiative LEipzig\nAnne Labahn &ndash\; HHL Leipzig Graduate School of Management\nMareike Rauchhaus &ndash\; nextbike GmbH\nMichael Willenberg &ndash\; Gromke H&ouml\;rzentrum\n\nVeranstaltungsort:Social Impact Lab LeipzigWei&szlig\;enfelser Stra&szlig\;e 65h\, 04229 Leipzig (Stelzenhaus)&nbsp\; &nbsp\; &nbsp\; &nbsp\; &nbsp\; &nbsp\; &nbsp\; &nbsp\; &nbsp\; &nbsp\; &nbsp\; &nbsp\; &nbsp\; &nbsp\; &nbsp\; &nbsp\; &nbsp\; &nbsp\; &nbsp\; &nbsp\; &nbsp\; &nbsp\; &nbsp\; &nbsp\; &nbsp\; &nbsp\; &nbsp\; &nbsp\; &nbsp\; &nbsp\; &nbsp\; &nbsp\; &nbsp\; &nbsp\; &nbsp\;&nbsp\;\nAlle Interessierten\, Unternehmer und die\, die es noch werden wollen (mit und ohne CSR-Affinit&auml\;t) sind herzlich eingeladen! Anmeldungen erbitten wir bis 14. Februar an&nbsp\;projekt@v-faktor-mitteldeutschland.com.\nDas Social Impact Lab Leipzig ist ein Gr&uuml\;nderzentrum f&uuml\;r sozial-innovative Startups.&nbsp\;http://leipzig.socialimpactlab.eu&nbsp\;&nbsp\;\nV FAKTOR ist ein kostenfreies Programm f&uuml\;r Unternehmen in Sachsen\, Sachsen-Anhalt und Th&uuml\;ringen\, initiiert von der Europ&auml\;ischen Metropolregion Mitteldeutschland\, getragen von der Leipziger Messe und der GP G&uuml\;nter Papenburg AG. Im Mittelpunkt steht der Erfahrungsaustausch zu Verantwortungs- und Nachhaltigkeitsstrategien mittelst&auml\;ndischer Unternehmen mit dem Ziel\, die Wettbewerbsf&auml\;higkeit zu st&auml\;rken\, Fachkr&auml\;fte zu sichern und den Wirtschaftsstandort Mitteldeutschland mitzugestalten.&nbsp\;http://www.v-faktor-mitteldeutschland.com/
END:VEVENT
END:VCALENDAR
