BEGIN:VCALENDAR
VERSION:2.0
PRODID:-//YourOrganization//EventDownload//DE
CALSCALE:GREGORIAN
METHOD:PUBLISH
BEGIN:VEVENT
UID:69e4c8bc82ea6@leapup.bitshifters.cloud
DTSTAMP:20260419T142116Z
DTSTART:20240820T000000Z
DTEND:20240820T000000Z
SUMMARY:Guide für Künstliche Intelligenz im Unternehmen
DESCRIPTION:\n\n\n\n\n\n\n\n\n\n\n\n\n\n\n\nDas Unternehmen Mittelstand-Digital Zentrum WertNetzWerke l&auml\;dt Sie zur folgenden Workshopreihe in Leipzig im Fraunhofer IMW ein:\n\n\n\n\n\n\n\n\n\n\n\n\n&nbsp\;\n\n\n\n\n\n\n\n\n\n\n\n\nGuide f&uuml\;r K&uuml\;nstliche Intelligenz im UnternehmenQualifizierung zum KI-Guide f&uuml\;r Bioscience\, Medtec &amp\; Gesundheitswesen&nbsp\;\nIn einer sechsteiligen Qualifizierungsreihe werden Interessierte in Leipzig zum KI-Guide qualifiziert\, um L&ouml\;sungen mit Hilfe von K&uuml\;nstlicher Intelligenz (KI) in ihrem Unternehmen voranzutreiben bzw. einf&uuml\;hren zu k&ouml\;nnen.Die Qualifizierungsreihe richtet sich an Gesch&auml\;ftsf&uuml\;hrer von KMU\, Mitarbeitende in Leitungsfunktionen wie beispielsweise F&uuml\;hrungskr&auml\;fte von IT-Abteilungen\, aber auch an andere Mitarbeitende betroffener Abteilungen sowie Innovationsmanager. Das Konzept zielt auf Unternehmen der Branchen Gesundheitswesen\, Medizintechnik und Bioscience (Diagnostikhersteller) sowie auf Entwickler von digitalen Gesundheitsanwendungen ab.Das Programm erstreckt sich &uuml\;ber drei Ebenen: KI-Management\, KI-Technologie sowie branchenspezifische KI-Begleitthemen\, insbesondere mit Fokus auf die &bdquo\;Einf&uuml\;hrung in die Welt der k&uuml\;nstlichen Intelligenz&ldquo\;\, &bdquo\;Einordnung von KI-Technologien&ldquo\; sowie auf eine &bdquo\;Implementierungsguideline&ldquo\;. Durch die Pr&auml\;senzworkshops sollen die Teilnehmenden bef&auml\;higt werden\, im eigenen Unternehmen KI-basierte L&ouml\;sungen voranzutreiben bzw. einzuf&uuml\;hren. Die teilnehmenden KMU sollen ein Toolset an die Hand bekommen\, um eine Vorgehensweise zur Einf&uuml\;hrung von KI im eigenen Unternehmen zu entwickeln und um realistische Einsch&auml\;tzungen geben zu k&ouml\;nnen. Mit Hilfe praxisnaher Ans&auml\;tze sollen Ideen bzw. Visionen entwickelt werden k&ouml\;nnen. Es besteht die M&ouml\;glichkeit\, im Anschluss ein durch das Mittelstand-Digital Zentrum WertNetzWerke unterst&uuml\;tztes KI-Digitalisierungsprojekt aufzusetzen und durchzuf&uuml\;hren.Die Halbtagesworkshops finden monatlich zwischen August 2024 und Januar 2025 in Leipzig statt und werden an die Bedarfe der teilnehmenden Unternehmen angepasst. Anmeldungen sind bis zum 13.08.2024 m&ouml\;glich.Nach Ihrer Anmeldung erhalten Sie eine Anmeldebest&auml\;tigung. Die Workshops sind abh&auml\;ngig von der Teilnehmeranzahl sowie von organisatorischen Gr&uuml\;nden. Wir behalten uns deswegen vor\, Ihnen erst am 14.08.2024 eine verbindliche Zusage zuzusenden.Die Workshops und die Begleitung durch Projektmitarbeitende des Mittelstand-Digital Zentrums WertNetzWerke sind durch eine F&ouml\;rderung des Bundesministeriums f&uuml\;r Wirtschaft und Klimaschutz kostenfrei.Termine*\n\n13.08.24 Deadline Anmeldung\n20.08.24 Workshop 1\n23.09.24 Workshop 2\n29.10.24 Workshop 3\n26.11.24 Workshop 4\n10.12.24 Workshop 5\n21.01.25 Workshop 6\n\n*&Auml\;nderungen vorbehalten\nJETZT ANMELDEN\n\n\n\n\n\n\n\n\n\n\n\n\n\n\n\n
LOCATION:Fraunhofer IMW \, Martin-Luther-Ring 13\, 04109 Leipzig
END:VEVENT
END:VCALENDAR
