BEGIN:VCALENDAR
VERSION:2.0
PRODID:-//YourOrganization//EventDownload//DE
CALSCALE:GREGORIAN
METHOD:PUBLISH
BEGIN:VEVENT
UID:69e4c8bd7f8ee@leapup.bitshifters.cloud
DTSTAMP:20260419T142117Z
DTSTART:20250226T091500Z
DTEND:20250226T161500Z
SUMMARY:Hands-on-Training Risikomanagement bei Medizinprodukten
DESCRIPTION:Risikomanagement ist der Schl&uuml\;ssel zu erfolgreichen Medizinprodukten. Es erstreckt sich von der Produktidee\, &uuml\;ber die Produktentwicklung und den Produkt-Launch bis zum Ende des Produktlebens.&nbsp\;\nSie haben die Anforderungen an das Risikomanagement von Medizinprodukten aus der europ&auml\;ischen Medizinprodukteverordnung MDR und der einschl&auml\;gigen Norm ISO 14971 bereits kennengelernt? Aber jetzt wissen Sie nicht\, wie Sie die Anforderungen praktisch umsetzen? Dann ist dieses Training genau richtig f&uuml\;r Sie!&nbsp\;\nZur Durchf&uuml\;hrung des Trainings wird das reale Beispiel-Produkt &ldquo\;BO-Score&rdquo\; verwendet:&nbsp\;\n&bdquo\;BO-Score&ldquo\; dient zur Bewertung tiefer emotionaler\, k&ouml\;rperlicher und geistiger Ersch&ouml\;pfung\, bekannt als &bdquo\;Burnout&ldquo\;\, von erwachsenen Patient:innen ab 18 Jahren. &bdquo\;BO-Score&ldquo\; wird in der Hand gehalten und misst die Mikro-Bewegungen (&bdquo\;Zittern&ldquo\;). Daraus lassen sich R&uuml\;ckschl&uuml\;sse auf den Burnout-Level ziehen.&nbsp\;\nAnhand des Beispiel-Produktes f&uuml\;hren wir Sie Schritt f&uuml\;r Schritt durch die Systematik der wichtigsten Bestandteile des Risikomanagements. Anhand von Vorlagen erarbeiten wir au&szlig\;erdem mit Ihnen L&ouml\;sungen\, welche Sie dann sp&auml\;ter auf Ihr Produkt &uuml\;bertragen k&ouml\;nnen.\nWeitere Informationen finden Sie hier!
LOCATION:Station Lounge\, Am Hauptbahnhof 10\, 60329  Frankfurt am Main
END:VEVENT
END:VCALENDAR
