BEGIN:VCALENDAR
VERSION:2.0
PRODID:-//YourOrganization//EventDownload//DE
CALSCALE:GREGORIAN
METHOD:PUBLISH
BEGIN:VEVENT
UID:69e6dcfb80e25@leapup.bitshifters.cloud
DTSTAMP:20260421T041211Z
DTSTART:20140625T000000Z
DTEND:20140627T000000Z
SUMMARY:Hauptstadtkongress 2014
DESCRIPTION:Der Hauptstadtkongress Medizin und Gesundheit hat sich zum bedeutendsten Branchentreffen in Deutschland entwickelt. Jedes Jahr treffen sich hier die wichtigsten Entscheider aus Politik\, Verb&auml\;nden\, Versicherungen\, Wissenschaft\, Medizin und Pflege. Auch 2014 werden wieder 8.000 Fachbesucher erwartet.\nNeu 2014: Der Hauptstadtkongress zieht um &ndash\; in den neuen CityCube Berlin!&nbsp\;
END:VEVENT
END:VCALENDAR
