BEGIN:VCALENDAR
VERSION:2.0
PRODID:-//YourOrganization//EventDownload//DE
CALSCALE:GREGORIAN
METHOD:PUBLISH
BEGIN:VEVENT
UID:69e4ddce6812e@leapup.bitshifters.cloud
DTSTAMP:20260419T155110Z
DTSTART:20241104T093000Z
DTEND:20241105T150000Z
SUMMARY:Hi-Tech Forum und 2. Hi-Acts Netzwerktreffen
DESCRIPTION:Das Hi-Tech Forum und Hi-Acts laden Sie herzlich zu einer exklusiven Veranstaltung ein\, die herausragende Experten aus Wissenschaft\, Industrie und Medizin zusammenbringt. Die vom Helmholtz-Zentrum Dresden-Rossendorf ausgerichtete Veranstaltung bietet eine einmalige Gelegenheit zum Dialog und zur Zusammenarbeit in einem gemeinsamen Forum.\nZiel ist es\, Industrievertreter\, Akteure des Gesundheitswesens und Innovationsexperten zusammenzubringen\, um neue Ideen und gemeinsame Initiativen entlang der gesamten Wertschöpfungskette von Beschleunigertechnologien zu fördern. Gemeinsam mit ihnen sollen aktuelle und künftige Möglichkeiten für kommerzielle Anwendungen ausgelotet werden.\nJetzt anmelden!
LOCATION:Lecture Hall - HZDR\, Bautzner Landstraße 400\, 01328 Dresden
END:VEVENT
END:VCALENDAR
