BEGIN:VCALENDAR
VERSION:2.0
PRODID:-//YourOrganization//EventDownload//DE
CALSCALE:GREGORIAN
METHOD:PUBLISH
BEGIN:VEVENT
UID:69e4e23a9248f@leapup.bitshifters.cloud
DTSTAMP:20260419T161002Z
DTSTART:20251028T083000Z
DTEND:20251029T140000Z
SUMMARY:Hi-Tech meets Life Science Forum: Radiopharmazie in Sachsen
DESCRIPTION:Die Radiopharmazie in Europa steht am Beginn einer neuen Ära – und Sachsen kann eine Schlüsselrolle einnehmen.\nErleben Sie ein außergewöhnliches Event\, das führende Köpfe aus Wissenschaft\, Industrie\, Klinik\, Politik und Innovationsnetzwerken zusammenbringt. \nWenn sich das Hi-Tech Forum (ein Format des HZDR) und das Life Science Forum (ein Format der WFS) vereinen\, entsteht ein Raum für Austausch\, neue Impulse und zukunftsweisende Kooperationen entlang der gesamten radiopharmazeutischen Wertschöpfungskette.\nUnter dem Motto „Wertschöpfung erweitern – Radiopharmazie-Ökosystem in Sachsen stärken“ beleuchten wir in drei thematisch fokussierten Sessions zentrale Entwicklungsschritte: \n\nNeue Radionuklide\, \nRadiopharma-Produktion und \nKlinische Anwendung.\n\nFreuen Sie sich auf ein vielseitiges Programm mit:\n\nInnoSpeedDating B2Match für gezielte Kontakte\nTalkshow Hot Spot Sachsen: Wie Radiopharmazie hier eine Heimat findet\nIndustry Tour zu relevanten Netzwerkpartnern\nKickstart Radiopharma – Frühstück &amp\; Austausch zum Auftakt des zweiten Tages\n\nGestalten wir die Zukunft der Radiopharmazie in Sachsen - gemeinsam!\nEine Veranstaltung des Helmholtz-Zentrum Dresden-Rossendorf und der Wirtschaftsförderung Sachsen.
LOCATION:Parkhotel Dresden\, Bautzner Landstraße 7\, 01324 Dresden
END:VEVENT
END:VCALENDAR
