BEGIN:VCALENDAR
VERSION:2.0
PRODID:-//YourOrganization//EventDownload//DE
CALSCALE:GREGORIAN
METHOD:PUBLISH
BEGIN:VEVENT
UID:69e973c979fb3@leapup.bitshifters.cloud
DTSTAMP:20260423T032009Z
DTSTART:20140528T000000Z
DTEND:20140528T000000Z
SUMMARY:Horizon 2020 - Fördermöglichkeiten für die Lebenswissenschaften
DESCRIPTION:
END:VEVENT
END:VCALENDAR
