BEGIN:VCALENDAR
VERSION:2.0
PRODID:-//YourOrganization//EventDownload//DE
CALSCALE:GREGORIAN
METHOD:PUBLISH
BEGIN:VEVENT
UID:69e4c869bfba4@leapup.bitshifters.cloud
DTSTAMP:20260419T141953Z
DTSTART:20250528T173000Z
DTEND:20250528T220000Z
SUMMARY:Ihr Unternehmen - Ihre Werte 
DESCRIPTION:white ip l&auml\;dt Sie herzlich zur exklusiven Abendveranstaltung mit zwei spannenden Impulsvortr&auml\;gen in den R&auml\;umlichkeiten in der K&ouml\;nigstra&szlig\;e in Dresden ein.\nErfahren Sie an diesem Abend\, wie Sie nicht nur aus Ihrem Unternehmen\, sondern vor allem auch aus Ihren Unternehmenswerten das Maximum herausholen k&ouml\;nnen.\nDie Teilnehmerzahl ist begrenzt!\nHier finden Sie alle Details zur Veranstaltung und die Anmeldung!
LOCATION:white ip | Patent & Legal\, Königstraße 7\, 01097 Dresden
END:VEVENT
END:VCALENDAR
