BEGIN:VCALENDAR
VERSION:2.0
PRODID:-//YourOrganization//EventDownload//DE
CALSCALE:GREGORIAN
METHOD:PUBLISH
BEGIN:VEVENT
UID:69e9835c037ea@leapup.bitshifters.cloud
DTSTAMP:20260423T042636Z
DTSTART:20130904T000000Z
DTEND:20130905T000000Z
SUMMARY:IIR Workshop on Cryoprocessing of Biopharmaceuticals and Biomaterials
DESCRIPTION:
END:VEVENT
END:VCALENDAR
