BEGIN:VCALENDAR
VERSION:2.0
PRODID:-//YourOrganization//EventDownload//DE
CALSCALE:GREGORIAN
METHOD:PUBLISH
BEGIN:VEVENT
UID:69e53e130b7dc@leapup.bitshifters.cloud
DTSTAMP:20260419T224155Z
DTSTART:20240918T090000Z
DTEND:20240919T160000Z
SUMMARY:ILMAC 2024
DESCRIPTION:Das Ilmac Branchenevent am bedeutungsvollen Standort in Lausanne ist alle zwei Jahre der gr&ouml\;sste Treffpunkt f&uuml\;r die Chemie- und Life Science Branche in der Westschweiz.\nJetzt anmelden!
LOCATION:Beaulieu SA\,  Av. Bergières 10\, 1004 Lausanne
END:VEVENT
END:VCALENDAR
