BEGIN:VCALENDAR
VERSION:2.0
PRODID:-//YourOrganization//EventDownload//DE
CALSCALE:GREGORIAN
METHOD:PUBLISH
BEGIN:VEVENT
UID:69e577647a969@leapup.bitshifters.cloud
DTSTAMP:20260420T024628Z
DTSTART:20220615T090000Z
DTEND:20220616T160000Z
SUMMARY:Impuls-Workshop "Agiles Management" 
DESCRIPTION:\n\n&nbsp\;\nGemeinsam mit der QUANTIC Digital GmbH veranstaltet biosaxony am 15. &amp\; 16. Juni 2022\, jeweils von 09:00-16:00 Uhr\, ein 2-t&auml\;giges Management-Training in der BIO CITY Leipzig.REFERENTEN: \n\nPeter Wolf\, Prokurist Digitalisierung und Agiles Management\, QUANTIC Digital GmbH\n\n\nStefan Kurzawski\, Senior Consultant IT-Projektmanagement und Agile Coach\, QUANTIC Digital GmbH\n\nINHALT: \nJe schneller und komplexer die Anforderungen werden\, desto weniger lassen sich Projekte und Prozesse in die Zukunft planen und im Management effektiv umsetzen. Neue Entwicklungen und Erkenntnisse m&uuml\;ssen immer schneller in die laufenden Planungen einflie&szlig\;en. Agiles Projektmanagement kann ein L&ouml\;sungsweg sein\, aus starren Planungswegen lebendige\, selbststeuernde und effiziente Organisationen und Prozesse zu entwickeln. Agiles Management unterst&uuml\;tzt Organisationen darin\, schneller und effektiver Ergebnisse zu erzeugen und Transformationsprozesse gezielt anzugehen.\nDie Ziele des Workshops sind es\, die theoretischen und praktischen Mehrwerte von Agilit&auml\;t im Vergleich zur Linienorganisation bzw. den Linienprozessen darzustellen. Dazu geh&ouml\;ren beispielsweise:\n\n\n\nh&ouml\;here Flexibilit&auml\;t im Unternehmen\nSteigerung der Effizienz\nmehr Verantwortungs&uuml\;bernahme durch die MA\nverst&auml\;rkte Innovationsf&auml\;higkeit u.a.\n\nAn beiden Tagen werden anhand von praktischen Beispielen diese Effekte verdeutlicht. Am zweiten Tag geht es um eine der gr&ouml\;&szlig\;ten Herausforderungen im Kontext der Agilit&auml\;t\, die Teilnehmer zu bef&auml\;higen\, Anforderungen klar zu definieren\, zu priorisieren und umzusetzen.\nAGENDA:\nMittwoch\, 15.06.2022\n1. Block\n\nVorstellung der Teilnehmer und der Quantic Digital\nWas ist Agiles Management und warum lassen sich damit Projekte und Prozesse in Zukunft effektiver umsetzen? Was sind die Vorteile f&uuml\;r die Unternehmen und warum schafft Agiles Management einen Innovationsvorsprung? Impulsvortrag\n\n2. Block\n\nDas Flussexperiment. Durch die Teilnahme an unserem Experiment werden agile Methoden greif- und erlebbar. Der Mehrwert f&uuml\;r die Teilnehmer wird durch ein praktisches Beispiel anschaulich demonstriert.\nAuswertung des Experimentes und Gegen&uuml\;berstellung etablierter Linienarbeit und Agiles Arbeiten im Hinblick auf Erh&ouml\;hung der Effizienz und Produktivit&auml\;t.\n\n3. Block\n\nAktive Kommunikation als Grundelement des Agilen Management. Neugier\, Wahrnehmung und Struktur an die Formulierung der Anforderungen im Agilen Management.\nRequirement Engineering oder warum es (nicht nur) im Agilen Management wichtig ist\, Anforderungen klar zu formulieren.\n\nDonnerstag\, 16.06.2022\nDer zweite Tag konzentriert sich auf praktische Gruppenarbeit. Ziel ist es dabei\, unterschiedliche und individuelle Bed&uuml\;rfnisse zu erfahren\, diese zu kontextualisieren und zu priorisieren. Aus diesen Bed&uuml\;rfnissen werden im weiteren Verlauf konkrete Anforderungen an die Gruppe formuliert und es werden daraus erste Prototypen gestaltet und gemeinsam reflektiert. Diese Gruppenarbeit soll den Teilnehmern die Gelegenheit bieten\, Methoden zu erlernen\, mit denen verschiedenen Bed&uuml\;rfnisse einer Gruppe wahrgenommen und eingeordnet werden sowie gemeinsame Ziele definiert und umgesetzt werden. Dies ist die Grundvoraussetzung f&uuml\;r Agiles Arbeiten in Unternehmen.\n1. Block\n\nCheck-In: Kl&auml\;rung der eigenen Ausgangssituation zum Beginn der Challenge.\nStart der Challenge:&nbsp\;&bdquo\;Wie k&ouml\;nnte sich Agilit&auml\;t unmittelbaren Einfluss auf die Erreichung unserer Unternehmensziele positiv auswirken?&ldquo\;\nUm die Anforderungen abzufragen\, werden Interviews in der Gruppe durchgef&uuml\;hrt (Methode: Empathize Interview). Dieses dient zur Kontextualisierung und Kl&auml\;rung der individuellen Bed&uuml\;rfnisse.\n\n\nVorbereitung des Interviews mittels Einstiegsfrage/Erlebnisfrage/Bed&uuml\;rfnisfrage. Wie werden durch die Teilnehmer im Rahmen der Challenge die Erwartungen an die Anforderung: &bdquo\;Agilit&auml\;t im Unternehmen&ldquo\; definiert?\n\n2. Block\n\nDurchf&uuml\;hrung des Interviews. Die Teilnehmer lernen\, die Bed&uuml\;rfnisse der Gruppenmitglieder wahrzunehmen und einzuordnen. Das daraus resultierende Filtern der Erkenntnisse und die Konkretisierung der Herausforderungen dient als n&auml\;chster Schritt der Definition eines Bed&uuml\;rfnisstatements\, das die zentrale Basis f&uuml\;r die Definition der Anforderung ist. \n\n3. Block\n\nEntwicklung eines Grundverst&auml\;ndnisses f&uuml\;r die Situation und die Bed&uuml\;rfnisse der Gruppe. Dies erm&ouml\;glicht die Definition der Ziele in der Gruppe und ein gemeinsames Arbeiten an Ideen bzw. Prototypen. (Methode: Ideate/Prototyping Idea Napkin).\nDie Gruppe entwickelt gemeinsam eine L&ouml\;sung f&uuml\;r die Thematik der Challenge. Es werden verschiedene Ideen und ein Prototyp entwickelt. Mit externem Feedback k&ouml\;nnen die Teilnehmer gleich in die n&auml\;chste Verbesserung bzw. Anpassung des Prototyps gehen (Methode: Testing/Feedback Grid).\n\n\nAuswertung/Verabschiedung\n\n&nbsp\;\nTEILNEHMERGEB&Uuml\;HR:\nBIOSAXONY Mitglieder: 600\,00 &euro\; (netto)\nNICHT-Mitglieder: 650\,00 &euro\; (netto)\nIn der Teilnahmegeb&uuml\;hr sind Seminarunterlagen\, Fingerfood\, Getr&auml\;nke und ein Mittagessen enthalten.\nNach Abschluss des Workshops erhalten die Teilnehmer ein Zertifikat.\nTEILNAHMEBEDINGUNGEN:\nBitte nutzen Sie f&uuml\;r Ihre Anmeldung unsere hier verlinkte Online-Registrierung.Die Teilnehmerzahl f&uuml\;r die Veranstaltung ist auf max. 12 Teilnehmer begrenzt. Anmeldungen werden in der Reihenfolge ihres Eingangs ber&uuml\;cksichtigt.\nAnmeldefrist: 31.05.2022\nEine Stornierung der Anmeldung bleibt bis zum jeweiligen Anmeldeschluss kostenfrei. Bei einer Stornierung nach dem Anmeldeschluss werden 50% des Kurspreises f&auml\;llig. Bei unentschuldigtem Nichterscheinen ist der komplette Kurspreis f&auml\;llig.\nBitte beachten Sie die Veranstaltungs-AGB des biosaxony e. V.\n
LOCATION:BioCity Leipzig\, Deutscher Platz 5\, 04103 Leipzig
END:VEVENT
END:VCALENDAR
