BEGIN:VCALENDAR
VERSION:2.0
PRODID:-//YourOrganization//EventDownload//DE
CALSCALE:GREGORIAN
METHOD:PUBLISH
BEGIN:VEVENT
UID:69e4fab854aec@leapup.bitshifters.cloud
DTSTAMP:20260419T175432Z
DTSTART:20241204T120000Z
DTEND:20241204T130000Z
SUMMARY:Informationsveranstaltung zum Förderprogramm GO-Bio next
DESCRIPTION:Innovative Gesch&auml\;ftsideen im Bereich der Lebenswissenschaften ben&ouml\;tigen oft umfangreiche Forschung\, bevor sie marktreif sind. Mit der "Gr&uuml\;ndungsoffensive Biotechnologie" unterst&uuml\;tzt das Bundesministerium f&uuml\;r Bildung und Forschung (BMBF) seit 2005 Forschungsteams dabei\, lebenswissenschaftliche Technologien und Erkenntnisse bis zur Unternehmensgr&uuml\;ndung zu validieren.\nDie F&ouml\;rderung gliedert sich in zwei Phasen:\nPhase 1: Unterst&uuml\;tzung von Forschungsvorhaben an Hochschulen und Forschungseinrichtungen.\nPhase 2: F&ouml\;rderung der Weiterf&uuml\;hrung dieser Vorhaben in neu gegr&uuml\;ndeten Unternehmen.\nAls zust&auml\;ndiger Projekttr&auml\;ger informiert die VDI/VDE Innovation + Technik GmbH &uuml\;ber die wesentlichen Inhalte des&nbsp\;F&ouml\;rderprogramms&nbsp\;und gibt Ihnen praktische Hinweise zur erfolgreichen Skizzeneinreichung. Nutzen Sie die Gelegenheit\, sich umfassend zu informieren und offene Fragen zu kl&auml\;ren.\nJetzt kostenfrei anmelden!
END:VEVENT
END:VCALENDAR
