BEGIN:VCALENDAR
VERSION:2.0
PRODID:-//YourOrganization//EventDownload//DE
CALSCALE:GREGORIAN
METHOD:PUBLISH
BEGIN:VEVENT
UID:69e9835d7df67@leapup.bitshifters.cloud
DTSTAMP:20260423T042637Z
DTSTART:20140331T000000Z
DTEND:20140331T000000Z
SUMMARY:Infoveranstaltung Argentinien Biotechnologie Markterschliessungsprogramm
DESCRIPTION:Die Deutsch-Argentinische Industrie- und Handelskammer (AHK Argentinien) organisiert in Kooperation mit der IHK f&uuml\;r M&uuml\;nchen und Oberbayern eine eint&auml\;gige Informationsveranstaltung zu den Marktchancen der deutschen Biotechnologie\, vormerklich der Labor- und Verfahrenstechnik\, in Argentinien. Prim&auml\;res Ziel der Veranstaltung ist es insbesondere deutschen kleine und mittelst&auml\;ndische Unternehmen (KMUs) fachbezogene Informationen zur Verf&uuml\;gung zu stellen\, um sie auf einen erfolgreichen Markteinstieg in Argentinien vorzubereiten.
END:VEVENT
END:VCALENDAR
