BEGIN:VCALENDAR
VERSION:2.0
PRODID:-//YourOrganization//EventDownload//DE
CALSCALE:GREGORIAN
METHOD:PUBLISH
BEGIN:VEVENT
UID:69e6dffeb9ff7@leapup.bitshifters.cloud
DTSTAMP:20260421T042502Z
DTSTART:20140521T000000Z
DTEND:20140523T000000Z
SUMMARY:Innovationsforum Bioökonomie in Brasilien 
DESCRIPTION:Ziel des Vorhabens ist die Intensivierung der Zusammenarbeit im Themenbereich Bio&ouml\;konomie zwischen Deutschland und Brasilien sowie die Erh&ouml\;hung der Sichtbarkeit der hervorragenden bilateralen Wissenschaftskooperation. Durch die Vernetzung zwischen deutschen und brasilianischen Teilnehmern aus Wissenschaft\, KMU und Gro&szlig\;industrie sollen neue F&amp\;E Projektideen und Partnerschaften auf dem Gebiet der Bio&ouml\;konomie initiiert werden\, die kurzfristig realisiert werden k&ouml\;nnen sowie bereits erfolgreiche Kooperationsprojekte pr&auml\;sentiert werden.
END:VEVENT
END:VCALENDAR
