BEGIN:VCALENDAR
VERSION:2.0
PRODID:-//YourOrganization//EventDownload//DE
CALSCALE:GREGORIAN
METHOD:PUBLISH
BEGIN:VEVENT
UID:69e5c6177531d@leapup.bitshifters.cloud
DTSTAMP:20260420T082215Z
DTSTART:20201110T093000Z
DTEND:20201113T153000Z
SUMMARY:Innovationstage Medizintechnik
DESCRIPTION:medizin&amp\;technik l&auml\;dt Sie ein\, praxisorientierte Informationen &uuml\;ber neue Produkte und L&ouml\;sungen zur Entwicklung und Fertigung innovativer und hochwertiger Medizinprodukte kennen zu lernen.\nF&uuml\;r Entscheider in den Entwicklungs-\, Konstruktions- und Produktionsabteilungen bei den Herstellern von Medizinprodukten und Projektmanager und Gesch&auml\;ftsf&uuml\;hrer in der Medizintechnik.\nProgramm\nJetzt kostenlos anmelden: https://innovationstage-medizintechnik.expo-ip.com/registrieren
END:VEVENT
END:VCALENDAR
