BEGIN:VCALENDAR
VERSION:2.0
PRODID:-//YourOrganization//EventDownload//DE
CALSCALE:GREGORIAN
METHOD:PUBLISH
BEGIN:VEVENT
UID:69e5b1943c763@leapup.bitshifters.cloud
DTSTAMP:20260420T065444Z
DTSTART:20210629T090000Z
DTEND:20210630T090000Z
SUMMARY:Innovationstage Medizintechnik
DESCRIPTION:\n\n\n\nF&uuml\;r Projektmanager oder Gesch&auml\;ftsf&uuml\;hrer in der Medizintechnik\npraxisorientierte Informationen\nFachvortr&auml\;ge namhafter Experten digital und kostenlos\n\n\n\n\n\n\n\nmedizin&amp\;technik l&auml\;dt Sie ein\, praxisorientierte Informationen &uuml\;ber neue Produkte und L&ouml\;sungen zur Entwicklung und Fertigung innovativer und hochwertiger Medizinprodukte kennen zu lernen. Mit den Fachvortr&auml\;gen namhafter Experten spricht das Forum die Hersteller medizintechnischer Ger&auml\;te\, Produkte und Komponenten an. Sie sind Entscheider in der Entwicklungs-\, Konstruktions- oder Produktionsabteilung? Sie sind als Projektmanager oder Gesch&auml\;ftsf&uuml\;hrer in der Medizintechnik t&auml\;tig? Dann bieten die Innovationstage Medizintechnik im Juni die richtigen Informationen f&uuml\;r Sie.Die Teilnahme ist f&uuml\;r Sie kostenlos. Seien Sie mit dabei!\n&nbsp\;\nProgramm und Anmeldung\n\n\n\n\n\n\n\n\n
END:VEVENT
END:VCALENDAR
