BEGIN:VCALENDAR
VERSION:2.0
PRODID:-//YourOrganization//EventDownload//DE
CALSCALE:GREGORIAN
METHOD:PUBLISH
BEGIN:VEVENT
UID:69e584a55d043@leapup.bitshifters.cloud
DTSTAMP:20260420T034301Z
DTSTART:20220405T100000Z
DTEND:20220405T121500Z
SUMMARY:Innovationstage Medizintechnik
DESCRIPTION:\n\n\n\n\n\nWas tr&auml\;gt eine innovative Branche wie die Medizintechnik? Ein wesentlicher Punkt sind die neuen Ideen\, die Fachleute in ihrem jeweiligen Bereich entwickeln und dann &ndash\; bei Bedarf mit Partnern &ndash\; auch in die Tat umsetzen. Sp&auml\;testens an dieser Stelle kommen die Ingenieure oder auch IT-Fachleute ins Spiel\, die wissen\, wie man Anforderungen in der Fertigung umsetzen kann\, wie man alle wesentlichen Daten im Blick beh&auml\;lt und analysiert. Neue Ideen zu Entwicklung\, Fertigung und Digitalisierung bestimmen auch das Programm der kommenden Innovationstage Medizintechnik. Am 5. April l&auml\;dt das Team von medizin&amp\;technik wieder ein zum Treffen vor dem Bildschirm. Und lassen Sie sich dieses Mal auch von einer Idee aus dem regulatorischen Umfeld auf neue Ideen bringen. Denn auch ein Qualit&auml\;tsmanagementsystem kann man teilen.\n\n\n\n\n\n\n\n2 Stunden kompakte Informationen &uuml\;ber neue Ideen zu Entwicklung\, Fertigung und Digitalisierung\ndirekte Gelegenheit\, Ihre Fragen zu stellen\nkostenlos und digital teilnehmen\nAnreisezeit und Reisekosten sparen\n\n Programm&nbsp\;und Anmeldung
END:VEVENT
END:VCALENDAR
