BEGIN:VCALENDAR
VERSION:2.0
PRODID:-//YourOrganization//EventDownload//DE
CALSCALE:GREGORIAN
METHOD:PUBLISH
BEGIN:VEVENT
UID:69e58bde4c2a8@leapup.bitshifters.cloud
DTSTAMP:20260420T041350Z
DTSTART:20220928T100000Z
DTEND:20220928T114500Z
SUMMARY:Innovationstage Medizintechnik – Nachhaltigkeit im Gesundheitswesen
DESCRIPTION:Zwei Tage\, drei Websessions bei den Innovationstagen Medizintechnik:Verpassen Sie nicht\, was sich in der Medizintechnik-Branche derzeit im Bereich 3D-Druck\, Digitalisierung &amp\; Automatisierung sowie beim Thema Nachhaltigkeit tut.\nDie Teilnahme an den Websessions ist kostenlos m&ouml\;glich.Ihre Anmeldung gilt jeweils f&uuml\;r alle Sitzungen an einem Tag.\n28.09.2022 | Websession: Nachhaltigkeit im Gesundheitswesen\nDas Thema Nachhaltigkeit im Gesundheitswesen bestimmt die dritte Websession am Mittwochmorgen.\n\nWie steht es aktuell darum\, worauf legen Mediziner Wert?\nWas l&auml\;sst sich mit digitalisiertem Abfallmanagement erreichen?\nUnd wer beteiligt sich an einem gerade entstehenden Netzwerk\, das zu nachhaltigeren Medizinprodukten f&uuml\;hren soll?\n\nWeitere Informationen und die online Registrierung finden Sie hier.
END:VEVENT
END:VCALENDAR
