BEGIN:VCALENDAR
VERSION:2.0
PRODID:-//YourOrganization//EventDownload//DE
CALSCALE:GREGORIAN
METHOD:PUBLISH
BEGIN:VEVENT
UID:69e8b7f66656d@leapup.bitshifters.cloud
DTSTAMP:20260422T135846Z
DTSTART:20191113T130000Z
DTEND:20191113T180000Z
SUMMARY:Innovationsworkshop - Digitale Vernetzung im Gesundheitswesen
DESCRIPTION:Trotz vielfältiger soziotechnischer Entwicklungen ist es bisher nur in Ansätzen gelungen\, eine digital unterstützte Gesundheitsversorgung entlang der gesamten Versorgungskette zu implementieren. Ursache dafür sind bislang entwickelte Technologien\, die nur für sich selbstständige Insellösungen unterschiedlicher Anbieter darstellen und eine ungenügende Kompatibilität zu anderen Systemen aufweisen.Ein wesentliches Problem ist\, dass bislang die digitale Unterstützung der Versorgung von Bewohnern der stationären Pflege fast vollständig von den Entwicklungen der Telematikinfrastruktur ausgenommen wurde.\nAblauf der Veranstaltung13:00 Begrüßungsimbiss auf der Terrasse der Rennbahntribüne13:30 Erläuterungen zur Stadtsilhouette und zur Geschichte der Rennbahn durch den Stadtbezirkskonservator Dr. Rainer Krumrey14:00 Begrüßung durch Dr. Torsten Geiner\, Gesundheit Mitteldeutschland e. V.14:15 Impulsvortrag: Digitale Vernetzung im Gesundheitswesen – Vision und Realität\, Sebastian Pelz\, MVZ Mittweida14:40 Innovationsworkshop\, Moderation Prof. Dr. Bernd Okun16:45 Pause und Buffet17: 30 Gemeinsame Vorstellung der Ergebnisse und Projektideen18:00 Ausklang\nBitte melden Sie sich per E-Mail an: ga@evermind.de
LOCATION:Rennbahn Leipzig\, Rennbahnweg 2A\, 04107 Leipzig
END:VEVENT
END:VCALENDAR
