BEGIN:VCALENDAR
VERSION:2.0
PRODID:-//YourOrganization//EventDownload//DE
CALSCALE:GREGORIAN
METHOD:PUBLISH
BEGIN:VEVENT
UID:69e6caba3af99@leapup.bitshifters.cloud
DTSTAMP:20260421T025418Z
DTSTART:20140928T000000Z
DTEND:20141002T000000Z
SUMMARY:International Summer School on Technology Transfer in Life Sciences
DESCRIPTION:Die Medizinische Fakult&auml\;t organisiert im Rahmen der Exzellenzinitiative der TU Dresden vom 28.09.-02.10.2014 zum zweiten Mal die International Summer School on Technology Transfer in Life Sciences.\nNeben den Basics des Technologietransfers werden Sie im Rahmen der einw&ouml\;chigen Summer School lernen\, das Marktpotential in Ihrer eigenen Forschung zu identifizieren. Anhand von praktischen Projektbeispielen werden dann die verschiedenen Wege erarbeitet\, wie es gesch&uuml\;tzt und kommerzialisiert werden kann.\nDie Teilnahme an der Summer School ist f&uuml\;r ausgew&auml\;hlte Teilnehmer kostenfrei!\nBewerben Sie sich online bis zum 15. Juli unter\nwww.summerschool-dresden.de\n&nbsp\;\nFeedback unserer Teilnehmer 2013:\n"Ich habe in England schon einige Veranstaltungen zum Technologie-Transfer besucht\, aber keine war so intensiv und hat das Thema so umfassend und praxisnah behandelt"\nSean Song\, King&rsquo\;s College London\, England\n&nbsp\;\n"Der Unterschied zwischen den Pr&auml\;sentationen der Projekte zu Beginn der Woche und den Abschlusspr&auml\;sentationen war unglaublich. Der Lernzuwachs war ganz klar zu erkennen."\nIvan Burkov\, University of Barcelona\, Spain\n&nbsp\;
END:VEVENT
END:VCALENDAR
