BEGIN:VCALENDAR
VERSION:2.0
PRODID:-//YourOrganization//EventDownload//DE
CALSCALE:GREGORIAN
METHOD:PUBLISH
BEGIN:VEVENT
UID:69e4c8fb0289f@leapup.bitshifters.cloud
DTSTAMP:20260419T142219Z
DTSTART:20250429T000000Z
DTEND:20250430T000000Z
SUMMARY:Internationaler Workshop "Plasma\, Katalyse und dünne Schichten für Umwandlungsprozesse"
DESCRIPTION:Dieser internationale Workshop zielt darauf ab\, die Grundlagen der Plasma- und Katalysetechnologie in Verbindung mit neu entstehenden Anwendungen wie Gasreinigung\, CO2-Umwandlung\, Plasmapyrolyse\, Stickstofffixierung und anderen chemischen Synthesen zu präsentieren. Plasmaprozesse für die Katalysatorherstellung werden das zweite Thema sein. Der Workshop richtet sich daher an Katalyse- und Plasmaexperten\, Werkstoffspezialisten\, Verfahrensingenieure\, Maschinen- und Komponentenbauer sowie Entscheidungsträger aus den Technologiebereichen. Unternehmen sind aufgerufen\, ihre technischen Lösungen in einem digitalen Konferenzheft zu präsentieren. Doktoranden und Postdocs werden ermutigt\, ihre Arbeit in Form von Posterpräsentationen vorzustellen.\nWeitere Informationen hier!
LOCATION:Feierabendhaus Marl\, Lipper Weg 201\, 45772 Marl
END:VEVENT
END:VCALENDAR
