BEGIN:VCALENDAR
VERSION:2.0
PRODID:-//YourOrganization//EventDownload//DE
CALSCALE:GREGORIAN
METHOD:PUBLISH
BEGIN:VEVENT
UID:69e5d32e97fb9@leapup.bitshifters.cloud
DTSTAMP:20260420T091806Z
DTSTART:20200706T150000Z
DTEND:20200706T170000Z
SUMMARY:Internationales Forum KI für die Medizintechnik: MDR meistern – Wettbewerbsfähigkeit steigern
DESCRIPTION:\n\nDie internationale Online-Veranstaltung richtet sich an Medtech-Experten aller Bereiche (Entwickler und Anwender). Spannende Kurzvortr&auml\;ge zeigen auf\, wie mit Hilfe von k&uuml\;nstlicher Intelligenz die neue Medizinprodukte-Verordnung der EU erfolgreich gemeistert werden kann und die Wettbewerbsf&auml\;higkeit der Medizintechnikunternehmen an internationalen M&auml\;rkten gest&auml\;rkt werden kann.\n&nbsp\;\n\n\n\n\nDas Anwendungspotential KI-gest&uuml\;tzter Datenanalyse in der Medizintechnik ist enorm. Deshalb besch&auml\;ftigt sich das Projekt &bdquo\;KIKS &ndash\; K&uuml\;nstliche Intelligenz f&uuml\;r Klinische Studien&ldquo\; damit\, innovative digitale Instrumente zu konzipieren und zu implementieren\, die mit Hilfe von K&uuml\;nstlicher Intelligenz die rasche Erhebung und Speicherung klinischer Daten zulassen. So wird die Wettbewerbsf&auml\;higkeit der Medizintechnikunternehmen gew&auml\;hrleistet und lebenswichtige medizinische Produkte f&uuml\;r Kliniken\, &Auml\;rzte und Patienten sind auch nach dem Inkrafttreten der neuen Medizinprodukte-Verordnung der EU verf&uuml\;gbar.\nBioLAGO ist Partner im Projekt KIKS\, das vom Bundesministerium f&uuml\;r Wirtschaft und Energie gef&ouml\;rdert wird. Gemeinsam mit der MedicalMountains GmbH und weiteren Partnern l&auml\;dt BioLAGO zur internationalen Kick-off Veranstaltung des Projekts KIKS ein. Weitere Infos zum Projekt: HIER\nZiel der Veranstaltung ist es\, Experten aus den Bereichen Anwendung und Herstellung in einem produktiven Austausch zum Thema k&uuml\;nstliche Intelligenz in der Medizintechnik zusammenzubringen. Teilnehmer erhalten spannende Einblicke &uuml\;ber erste Projektergebnisse und erfahren\, wie sie das KIKS-&Ouml\;kosystem gewinnbringend f&uuml\;r Ihr Unternehmen einsetzen k&ouml\;nnen.\nSpannende Vortr&auml\;ge informieren zudem &uuml\;ber aktuelle Themen der Medizintechnikbranche wie die Verl&auml\;ngerung der MDR-Fristen und die Aesculap AG berichtet &uuml\;ber Chancen k&uuml\;nstlicher Intelligenz und Vorteile des Projekts KIKS f&uuml\;r die moderne Implantatherstellung.\nAls Redner mit dabei sind unter anderem Experten der Aesculap AG\, der RAYLYTIC GmbH\, der BG Unfallklinik T&uuml\;bingen und dem irischen Forschungszentrum f&uuml\;r Medizintechnik C&Uacute\;RAM &ndash\; Centre for Research in Medical Devices.\nMelden Sie sich jetzt an!\n&nbsp\;\n&nbsp\;\n\n
END:VEVENT
END:VCALENDAR
