BEGIN:VCALENDAR
VERSION:2.0
PRODID:-//YourOrganization//EventDownload//DE
CALSCALE:GREGORIAN
METHOD:PUBLISH
BEGIN:VEVENT
UID:69e4dbf8af210@leapup.bitshifters.cloud
DTSTAMP:20260419T154320Z
DTSTART:20241106T090000Z
DTEND:20241108T160000Z
SUMMARY:ISPA 2024 | Internationales Symposium über Piezokomposit-Anwendungen
DESCRIPTION:Das ISPA 2024 &ndash\; International Symposium on Piezocomposite Applications lädt internationale Experten aus Forschung und Industrie nach Dresden ein\, um die neuesten Entwicklungen und Anwendungen auf dem Gebiet der Piezocomposites zu diskutieren. Im Mittelpunkt des diesjährigen Symposiums stehen drei Themenschwerpunkte:\n\nEnergy Harvesting:&nbsp\;Nutzung von Piezokompositen für Energy Harvesting-Anwendungen\, einschließlich ihrer Verwendung in erneuerbaren Energiesystemen\, selbstversorgten Sensoren und drahtloser Energieübertragung.\nHIFU-Anwendungen:&nbsp\;Einsatz von Piezokompositen in der hochintensiven fokussierten Ultraschalltechnologie (HIFU) für medizinische und therapeutische Anwendungen\, einschließlich Tumorablation\, nicht-invasive Chirurgie und gezielte Medikamentenabgabe.\nSonaranwendungen:&nbsp\;Sonartechnologie unter Verwendung von Piezokompositen\, einschließlich ihrer Verwendung in der Unterwasserkommunikation\, autonomen Unterwasserfahrzeugen (AUVs) und der Meeresforschung.\n\nSie sind herzlich eingeladen\, in einem Vortrag über Ihre neuesten Entwicklungen und Zukunftsaussichten zu berichten und Ihre Produkte und Dienstleistungen als Aussteller oder Sponsor zu präsentieren.\nNeben dem Wissensaustausch stehen das Networking und der Aufbau zukünftiger Partnerschaften im Mittelpunkt des Symposiums.\nInformationen zum Call for Papers\, zur Industrieausstellung\, zum Sponsoring und zur Anmeldung finden Sie auf der Website der Veranstaltung.\nWeiteres
LOCATION:Fraunhofer IKTS\, Winterbergstr. 28\, 01277 Dresden
END:VEVENT
END:VCALENDAR
