BEGIN:VCALENDAR
VERSION:2.0
PRODID:-//YourOrganization//EventDownload//DE
CALSCALE:GREGORIAN
METHOD:PUBLISH
BEGIN:VEVENT
UID:69e4e294a0203@leapup.bitshifters.cloud
DTSTAMP:20260419T161132Z
DTSTART:20251004T180000Z
DTEND:20251008T120000Z
SUMMARY:Jahreskongress der Europäischen Gesellschaft für Nuklearmedizin (EANM)
DESCRIPTION:Der EANM-Jahreskongress ist eine wahrhaft globale Veranstaltung\, die rund 10.000 Teilnehmer aus der ganzen Welt anzieht. Dieses vielfältige Zusammentreffen von Fachleuten bietet eine reichhaltige Plattform für den Austausch von Ideen und fördert die internationale Zusammenarbeit und Innovation. Wir sind bestrebt\, neue Formate und Interaktionen mit Experten zu erforschen\, um sicherzustellen\, dass unser Kongress an der Spitze des wissenschaftlichen Diskurses und der beruflichen Entwicklung bleibt.\nEiner der Höhepunkte des diesjährigen Kongresses wird die fortgesetzte Konzentration auf neue Fortschritte in der Theranostik sein. Dieser sich rasch entwickelnde Bereich revolutioniert unsere Diagnose- und Behandlungsmethoden und bietet unseren Patienten eine noch nie dagewesene Präzision und personalisierte Versorgung. Wir haben ein spannendes Programm zusammengestellt\, in dem führende Experten ihre Erkenntnisse und neuesten Forschungsergebnisse vorstellen werden.
LOCATION:CCIB –  International Barcelona Convention Center\, Plaça de Willy Brandt 11-14\, 08019 Barcelona
END:VEVENT
END:VCALENDAR
