BEGIN:VCALENDAR
VERSION:2.0
PRODID:-//YourOrganization//EventDownload//DE
CALSCALE:GREGORIAN
METHOD:PUBLISH
BEGIN:VEVENT
UID:69e679888ec9d@leapup.bitshifters.cloud
DTSTAMP:20260420T210752Z
DTSTART:20160929T000000Z
DTEND:20161001T000000Z
SUMMARY:Jahrestagung der Deutschen Gesellschaft für Biomaterialien
DESCRIPTION:
LOCATION:Hörsaalgebäude PPS\, Professor-Pirlet-Straße 12\, 52074 Aachen
END:VEVENT
END:VCALENDAR
