BEGIN:VCALENDAR
VERSION:2.0
PRODID:-//YourOrganization//EventDownload//DE
CALSCALE:GREGORIAN
METHOD:PUBLISH
BEGIN:VEVENT
UID:69e8edd225d07@leapup.bitshifters.cloud
DTSTAMP:20260422T174834Z
DTSTART:20171109T090000Z
DTEND:20171111T170000Z
SUMMARY:Jahrestagung der Deutschen Gesellschaft für Biomaterialien
DESCRIPTION:Schwerpunktthemen:• Regenderative Materialien/ in-situ Tissue Engineering• Biomaterialien zur Regulation der Immunantwort• Additive Fertigung und Biofabrikation• Wirkstofftransportsysteme• Biomaterialien für muskuloskelettale Anwendungen• Translation und klinische Anwendung von Biomaterialien\nAbend- und RahmenprogrammWelcome Reception (18:00-20:00 Uhr)Verbringen Sie den ersten Abend der Tagung mit Ihren Kollegen und Freunden mit Getränken und Speisen in der Industrieausstellung.\nIndustrieausstellung: Kontakt für FirmenDie Veranstaltung wird von einer fachbezogenen Industrieausstellung begleitet.Interessierte Firmen wenden sich bitte für detaillierte Informationen zu den verschiedenen Präsentationsmöglichkeiten an Conventus\n&gt\;&gt\; Aussteller- und Sponsoren-Unterlagen
LOCATION:Vogel Convention Center\, Max-Planck-Straße 7-9\, 97064 Würzburg
END:VEVENT
END:VCALENDAR
