BEGIN:VCALENDAR
VERSION:2.0
PRODID:-//YourOrganization//EventDownload//DE
CALSCALE:GREGORIAN
METHOD:PUBLISH
BEGIN:VEVENT
UID:69e6caf8dc5f6@leapup.bitshifters.cloud
DTSTAMP:20260421T025520Z
DTSTART:20141106T000000Z
DTEND:20141108T000000Z
SUMMARY:Jahrestagung der Deutschen Gesellschaft für Biomaterialien (DGBM)
DESCRIPTION:
END:VEVENT
END:VCALENDAR
