BEGIN:VCALENDAR
VERSION:2.0
PRODID:-//YourOrganization//EventDownload//DE
CALSCALE:GREGORIAN
METHOD:PUBLISH
BEGIN:VEVENT
UID:69e53e0d7fe84@leapup.bitshifters.cloud
DTSTAMP:20260419T224149Z
DTSTART:20231120T093000Z
DTEND:20231121T140000Z
SUMMARY:Jahrestreffen "Prozess-\, Apparate- und Anlagentechnik“
DESCRIPTION:Das Jahrestreffen der erweiterten DECHEMA/VDI-Fachsektion "Prozess-\, Apparate- und Anlagentechnik" (PAAT) findet in diesem Jahr vom 20. - 21. November 2023 im DECHEMA Haus in Frankfurt statt.\nProzess-\, Anlagen-\,&nbsp\; Sensor- und Werkstoff-Technik der Zukunft: Welche Entwicklungen treiben Anlagen- und Verfahrenstechnik voran? \nInterdisziplin&auml\;re Zukunftsthemen wie klimaschonende und nachhaltige Produktion\, Elektrifizierung\, CO2- und H2-Management (z.B. Erzeugung\, Speicherung\, Verwendung) stehen weiterhin im Fokus.\nWeitere Schwerpunktthemen sind digitale Technologien im Engineering\,&nbsp\;Trends in der Verfahrensentwicklung und Prozesstechnologie sowie aktuelle Entwicklungen im Anlagenbau &amp\; Betrieb. Zus&auml\;tzlich werden Trends in der Werkstoff- und Apparatetechnik sowie Messtechnik behandelt.\nJetzt anmelden!
LOCATION:DECHEMA Haus\, Theodor-Heuss-Allee 25\, 60486 Frankfurt am Main
END:VEVENT
END:VCALENDAR
