BEGIN:VCALENDAR
VERSION:2.0
PRODID:-//YourOrganization//EventDownload//DE
CALSCALE:GREGORIAN
METHOD:PUBLISH
BEGIN:VEVENT
UID:69e5cfcf65ae6@leapup.bitshifters.cloud
DTSTAMP:20260420T090343Z
DTSTART:20210126T090000Z
DTEND:20210126T120000Z
SUMMARY:Jahreswechsel-Online-Seminar Sozialversicherung 2020/2021
DESCRIPTION:\n\n\n\n\n\n\n\n\n\nInformationsveranstaltung der Techniker Krankenkasse &uuml\;ber alle &Auml\;nderungen in der Sozialversicherung f&uuml\;r 2020/2021\n&nbsp\;\nGeplante Themen:\n&nbsp\;\nSOZIALVERSICHERUNG\n - &Auml\;nderungen durch das Siebte SGB IV-&Auml\;nderungsgesetz \n- Krankenkassenwahl 2021 \n- Elektronische AU-Bescheinigung \n- Sonstige &Auml\;nderungen durch das 7. SGB IV-&Auml\;ndG \n- Kurzarbeit und Kurzarbeitergeld 2020/2021 \n- &Auml\;nderungen im Zahlstellenmeldeverfahren \n- Geringf&uuml\;gige Besch&auml\;ftigungen \n- A1-Verfahren f&uuml\;r Beamte \n&nbsp\;\nDas Online-Seminar ist kostenfrei.\n&nbsp\;\nAnmeldung unter: https://register.gotowebinar.com/register/5179064115791145998 \n\n\n\n\n\n\n\n\n\n
END:VEVENT
END:VCALENDAR
