BEGIN:VCALENDAR
VERSION:2.0
PRODID:-//YourOrganization//EventDownload//DE
CALSCALE:GREGORIAN
METHOD:PUBLISH
BEGIN:VEVENT
UID:69e7162dc3649@leapup.bitshifters.cloud
DTSTAMP:20260421T081613Z
DTSTART:20140124T000000Z
DTEND:20140126T000000Z
SUMMARY:KarriereStart 2014
DESCRIPTION:&bdquo\;Zukunft selbst gestalten&ldquo\; &ndash\; unter diesem Motto findet die 16. KarriereStart vom 24. &ndash\; 26. Januar 2014 in Dresden statt.\n2013 verzeichnete sie &ndash\; als eine der bekanntesten Messen ihrer Art in Deutschland &ndash\; mit Aussteller- und Besucherrekord wiederum einen &uuml\;berragenden Erfolg. 384 Aussteller pr&auml\;sentierten sich den 28.000 Besuchern in ausgebuchten Hallen. Der ungebrochene Zuspruch ausstellender Firmen und Institutionen aus ganz Deutschland und dar&uuml\;ber hinaus sowie die hohe Besucherakzeptanz sprechen f&uuml\;r die Qualit&auml\;t und den Erfolg der Messe.
END:VEVENT
END:VCALENDAR
